BEGIN:VCALENDAR
VERSION:2.0
PRODID:-//hacksw/handcal//NONSGML v1.0//EN
BEGIN:VEVENT
SUMMARY:Soiree Pizza
UID:181f565d-7307-471e-9210-0ad34c7e0f1f
DTSTART:20260417T164500Z
DTEND:20260417T174500Z
LOCATION:Localisation   
CATEGORIES:Festif
STATUS:
DESCRIPTION:<p style="text-align:center;"><span
 style="font-size:18px;"><span style="color:#000000;"><strong>Repas
 Pizzas-salades avant le tournoi simultanet du vendredi soir.
 </strong></span></span></p>
 
 <p style="text-align:center;"><span
 style="font-size:18px;"><span style="color:#000000;"><strong>Sur
 inscription, venez nombreux !</strong></span></span></p>
URL;VALUE=URI:https://hyerespalmiersbridge.club.ffbridge.fr/evenements/2026/04/17/soiree-pizza-2201922
END:VEVENT
END:VCALENDAR
