BEGIN:VCALENDAR
VERSION:2.0
PRODID:-//hacksw/handcal//NONSGML v1.0//EN
BEGIN:VEVENT
SUMMARY:TROPHEE DU VOYAGE
UID:5ade42c6-d84a-40ef-b86b-313d63536fe6
DTSTART:20260413T123000Z
DTEND:20260413T161500Z
LOCATION:Localisation   
CATEGORIES:Sportif
STATUS:
URL;VALUE=URI:https://hyerespalmiersbridge.club.ffbridge.fr/evenements/2026/04/13/trophee-du-voyage-2264892
END:VEVENT
END:VCALENDAR
