BEGIN:VCALENDAR
VERSION:2.0
PRODID:-//hacksw/handcal//NONSGML v1.0//EN
BEGIN:VEVENT
SUMMARY:CAFE GOURMAND
UID:634f2521-236d-4756-9719-26e431757153
DTSTART:20260409T113000Z
DTEND:20260409T123000Z
LOCATION:Localisation   
CATEGORIES:Festif
STATUS:
DESCRIPTION:<p style="text-align:center;"><span
 style="font-size:16px;">Un moment de convivialite avant le debut de
 notre tournoi de ce jeudi 9 avril 2026, organise par Christiane
 Garcia avec tout son savoir faire pour nous
 satisfaire. </span></p>
 
 <p style="text-align:center;"><span
 style="font-size:16px;">Nous vous attendons nombreux !</span></p>
URL;VALUE=URI:https://hyerespalmiersbridge.club.ffbridge.fr/evenements/2026/04/09/cafe-gourmand-2188793
END:VEVENT
END:VCALENDAR
