BEGIN:VCALENDAR
VERSION:2.0
PRODID:-//hacksw/handcal//NONSGML v1.0//EN
BEGIN:VEVENT
SUMMARY:FERMETURE DU CLUB
UID:1aa749ce-6a0c-4536-bc01-8f236386a75f
DTSTART:20260406T123000Z
DTEND:20260406T141500Z
LOCATION:Localisation   
CATEGORIES:Sportif
STATUS:
URL;VALUE=URI:https://hyerespalmiersbridge.club.ffbridge.fr/evenements/2026/04/06/fermeture-du-club-2264883
END:VEVENT
END:VCALENDAR
