BEGIN:VCALENDAR
VERSION:2.0
PRODID:-//hacksw/handcal//NONSGML v1.0//EN
BEGIN:VEVENT
SUMMARY:CHALLENGE du SOIR 2026 a HYERES (2ieme seance)
UID:ff46207c-f680-4b50-824f-692307607256
DTSTART:20260325T173000Z
DTEND:20260325T220000Z
LOCATION:Localisation   
CATEGORIES:Sportif
STATUS:
DESCRIPTION:<p style="text-align:center;"><span
 style="font-size:16px;">La deuxieme seance du Challenge du  Soir
 se  deroule dans notre Club de Hyeres a partir de
 18h30.</span></p>
 
 <p style="text-align:center;"><span
 style="font-size:16px;">Nous vous rappellons qu'il sera demande 20€
 a l'equipe pour la participation a la collation qui fait partie
 intrinseque du deroulement de la competition.</span></p>
URL;VALUE=URI:https://hyerespalmiersbridge.club.ffbridge.fr/evenements/2026/03/25/challenge-du-soir-2026-a-hyeres-2ieme-seance-2374405
END:VEVENT
END:VCALENDAR
