BEGIN:VCALENDAR
VERSION:2.0
PRODID:-//hacksw/handcal//NONSGML v1.0//EN
BEGIN:VEVENT
SUMMARY:APERO GOURMAND
UID:3025e748-e455-4523-adc8-cb4c02b929ee
DTSTART:20260313T171500Z
DTEND:20260313T180000Z
LOCATION:Localisation   
CATEGORIES:Festif
STATUS:
DESCRIPTION:<p style="text-align:center;"><span
 style="font-size:16px;">Un apero gourmand suivra notre tournoi de
 regularite le vendredi 13 mars 2026 a 18H15. </span></p>
 
 <p
 style="text-align:center;"><span style="font-size:16px;">Au plaisir
 de vous y retrouver pour partager ce moment de
 convivialite.</span></p>
URL;VALUE=URI:https://hyerespalmiersbridge.club.ffbridge.fr/evenements/2026/03/13/apero-gourmand-2216052
END:VEVENT
END:VCALENDAR
